BEGIN:VCALENDAR
VERSION:2.0
PRODID:-//Mozilla Quality Assurance - ECPv6.6.0.1//NONSGML v1.0//EN
CALSCALE:GREGORIAN
METHOD:PUBLISH
X-WR-CALNAME:Mozilla Quality Assurance
X-ORIGINAL-URL:https://quality.mozilla.org
X-WR-CALDESC:Events for Mozilla Quality Assurance
REFRESH-INTERVAL;VALUE=DURATION:PT1H
X-Robots-Tag:noindex
X-PUBLISHED-TTL:PT1H
BEGIN:VTIMEZONE
TZID:America/Los_Angeles
BEGIN:DAYLIGHT
TZOFFSETFROM:-0800
TZOFFSETTO:-0700
TZNAME:PDT
DTSTART:20110313T100000
END:DAYLIGHT
BEGIN:STANDARD
TZOFFSETFROM:-0700
TZOFFSETTO:-0800
TZNAME:PST
DTSTART:20111106T090000
END:STANDARD
END:VTIMEZONE
BEGIN:VEVENT
DTSTART;TZID=America/Los_Angeles:20110902T090000
DTEND;TZID=America/Los_Angeles:20110902T170000
DTSTAMP:20260423T043347
CREATED:20110830T204729Z
LAST-MODIFIED:20110830T204729Z
UID:38248-1314954000-1314982800@quality.mozilla.org
SUMMARY:QA-Wanted Testday this Friday
DESCRIPTION:Greetings Mozilla QA Community! \nThis Friday\, September 2nd\, we will be holding a testday for QA-WANTED bugs in Firefox. A QA-WANTED bug is a bug which needs help from testers to identify the conditions under which the bug occurs. Sometimes this can be as simple as a set of steps to reproduce or a URL. In more complex cases it may require development of small test cases or investigating crash reports. This is where we need your help. \nIf you have time this Friday\, please grab the latest Nightly and come by our #testday channel on irc.mozilla.org. We will be testing all day. Don’t worry if you’ve never done any testing like this before; we will have people on hand to help teach you the process. \nSee you Friday! \nFor more details\, check out our test plan.
URL:https://quality.mozilla.org/event/qa-wanted-testday-this-friday/
CATEGORIES:QMO News,Syndicated
END:VEVENT
END:VCALENDAR