BEGIN:VCALENDAR
VERSION:2.0
PRODID:-//Mozilla Quality Assurance - ECPv6.6.0.1//NONSGML v1.0//EN
CALSCALE:GREGORIAN
METHOD:PUBLISH
X-WR-CALNAME:Mozilla Quality Assurance
X-ORIGINAL-URL:https://quality.mozilla.org
X-WR-CALDESC:Events for Mozilla Quality Assurance
REFRESH-INTERVAL;VALUE=DURATION:PT1H
X-Robots-Tag:noindex
X-PUBLISHED-TTL:PT1H
BEGIN:VTIMEZONE
TZID:America/Los_Angeles
BEGIN:DAYLIGHT
TZOFFSETFROM:-0800
TZOFFSETTO:-0700
TZNAME:PDT
DTSTART:20120311T100000
END:DAYLIGHT
BEGIN:STANDARD
TZOFFSETFROM:-0700
TZOFFSETTO:-0800
TZNAME:PST
DTSTART:20121104T090000
END:STANDARD
END:VTIMEZONE
BEGIN:VEVENT
DTSTART;VALUE=DATE:20120405
DTEND;VALUE=DATE:20120406
DTSTAMP:20260423T024422
CREATED:20120329T083041Z
LAST-MODIFIED:20120329T083041Z
UID:41066-1333584000-1333670340@quality.mozilla.org
SUMMARY:Instant messaging in Thunderbird testday
DESCRIPTION:On April the 5th the Thunderbird team is organizing a testday. The focus of the day will be Instant Messaging \, a new feature that has recently been added to Thunderbird nightly. We are both interested in finding bugs and getting feedback. All the details i on our test wiki page at https://wiki.mozilla.org/Thunderbird:QA_TestDay:2012-04-05 .
URL:https://quality.mozilla.org/event/instant-messaging-in-thunderbird-testday/
END:VEVENT
END:VCALENDAR