BEGIN:VCALENDAR
VERSION:2.0
PRODID:-//Mozilla Quality Assurance - ECPv6.6.0.1//NONSGML v1.0//EN
CALSCALE:GREGORIAN
METHOD:PUBLISH
X-WR-CALNAME:Mozilla Quality Assurance
X-ORIGINAL-URL:https://quality.mozilla.org
X-WR-CALDESC:Events for Mozilla Quality Assurance
REFRESH-INTERVAL;VALUE=DURATION:PT1H
X-Robots-Tag:noindex
X-PUBLISHED-TTL:PT1H
BEGIN:VTIMEZONE
TZID:America/Los_Angeles
BEGIN:DAYLIGHT
TZOFFSETFROM:-0800
TZOFFSETTO:-0700
TZNAME:PDT
DTSTART:20110313T100000
END:DAYLIGHT
BEGIN:STANDARD
TZOFFSETFROM:-0700
TZOFFSETTO:-0800
TZNAME:PST
DTSTART:20111106T090000
END:STANDARD
END:VTIMEZONE
BEGIN:VEVENT
DTSTART;VALUE=DATE:20110916
DTEND;VALUE=DATE:20110917
DTSTAMP:20260425T045807
CREATED:20110912T122337Z
LAST-MODIFIED:20110912T122337Z
UID:38427-1316131200-1316217540@quality.mozilla.org
SUMMARY:Firefox 8 - SUMO reports - Testday - September\, 16th
DESCRIPTION:Hello Mozilians everywhere! \nThis Friday\, September 16th we will make the web better\, by inspecting the SUMO reports that you posted on our support site.  Our main focus of the testday are the  top issues reported in SUMO: Add-on Compatibility\, Session Restore after Update and Profile Retention after Update. \nSome important test runs\, bug verifications/triage and exploratory testing  have been planed for the testday. \nThe main tasks will be: \n\nTesting the top100 compatible add-ons with Firefox 8 to ensure there is no breakage with any of those add-ons installed. Be careful to check that no memory leaks exist in the add-on or Firefox itself.\nTesting Session Restore after Update  from a previous Firefox Versions version\nBug verifications for all the areas of interest\nTesting that your profile is updated after a Firefox update and all your data is retained\n\nWe have created an Etherpad from where we can track our progress and where you can find all the information you will need. Feel free to work on any area you are interested in. There will be mozillians  in the IRC channel at #testday to help you out with anything you need. \nAlso if you have time please fill our survey \nTogether with your help we will make Firefox and the web a better place.
URL:https://quality.mozilla.org/event/firefox-8-sumo-reports-testday-september-16th/
CATEGORIES:Firefox Team,QMO News
END:VEVENT
END:VCALENDAR