BEGIN:VCALENDAR
VERSION:2.0
PRODID:-//Mozilla Quality Assurance - ECPv6.6.0.1//NONSGML v1.0//EN
CALSCALE:GREGORIAN
METHOD:PUBLISH
X-WR-CALNAME:Mozilla Quality Assurance
X-ORIGINAL-URL:https://quality.mozilla.org
X-WR-CALDESC:Events for Mozilla Quality Assurance
REFRESH-INTERVAL;VALUE=DURATION:PT1H
X-Robots-Tag:noindex
X-PUBLISHED-TTL:PT1H
BEGIN:VTIMEZONE
TZID:America/Los_Angeles
BEGIN:DAYLIGHT
TZOFFSETFROM:-0800
TZOFFSETTO:-0700
TZNAME:PDT
DTSTART:20130310T100000
END:DAYLIGHT
BEGIN:STANDARD
TZOFFSETFROM:-0700
TZOFFSETTO:-0800
TZNAME:PST
DTSTART:20131103T090000
END:STANDARD
END:VTIMEZONE
BEGIN:VEVENT
DTSTART;VALUE=DATE:20131206
DTEND;VALUE=DATE:20131207
DTSTAMP:20260423T043358
CREATED:20131121T155545Z
LAST-MODIFIED:20131121T155545Z
UID:46371-1386288000-1386374340@quality.mozilla.org
SUMMARY:Australis Testday\, December 6th
DESCRIPTION:Hello Mozillians\, \nWe are happy to announce that Friday\, December 6th\, we are organizing the first Australis Testday.  \nAs you already know\, the new Firefox look & design – Australis\, landed in Nightly this week. This is by far one of the most important feature we’ve dealt with\, this is the future. So\, we really need your help ! \nThe details about the activities are available here. \nNo previous testing experience is needed\, so feel free to join us on the #testday IRC channel where our moderators will offer you guidance and answer your questions. \nJoin us and help us make Firefox better! See you on Friday!
URL:https://quality.mozilla.org/event/australis-testday-december-6th/
CATEGORIES:community,QMO News
END:VEVENT
END:VCALENDAR